BEGIN:VCALENDAR
VERSION:2.0
PRODID:-//Gotty &amp; the Cruizers - ECPv6.15.18//NONSGML v1.0//EN
CALSCALE:GREGORIAN
METHOD:PUBLISH
X-WR-CALNAME:Gotty &amp; the Cruizers
X-ORIGINAL-URL:https://www.thecruizers.at/en
X-WR-CALDESC:Events for Gotty &amp; the Cruizers
REFRESH-INTERVAL;VALUE=DURATION:PT1H
X-Robots-Tag:noindex
X-PUBLISHED-TTL:PT1H
BEGIN:VTIMEZONE
TZID:Europe/Vienna
BEGIN:DAYLIGHT
TZOFFSETFROM:+0100
TZOFFSETTO:+0200
TZNAME:CEST
DTSTART:20250330T010000
END:DAYLIGHT
BEGIN:STANDARD
TZOFFSETFROM:+0200
TZOFFSETTO:+0100
TZNAME:CET
DTSTART:20251026T010000
END:STANDARD
BEGIN:DAYLIGHT
TZOFFSETFROM:+0100
TZOFFSETTO:+0200
TZNAME:CEST
DTSTART:20260329T010000
END:DAYLIGHT
BEGIN:STANDARD
TZOFFSETFROM:+0200
TZOFFSETTO:+0100
TZNAME:CET
DTSTART:20261025T010000
END:STANDARD
BEGIN:DAYLIGHT
TZOFFSETFROM:+0100
TZOFFSETTO:+0200
TZNAME:CEST
DTSTART:20270328T010000
END:DAYLIGHT
BEGIN:STANDARD
TZOFFSETFROM:+0200
TZOFFSETTO:+0100
TZNAME:CET
DTSTART:20271031T010000
END:STANDARD
END:VTIMEZONE
BEGIN:VEVENT
DTSTART;TZID=Europe/Vienna:20260411T203000
DTEND;TZID=Europe/Vienna:20260411T233000
DTSTAMP:20260421T162506
CREATED:20251219T115323Z
LAST-MODIFIED:20260330T100539Z
UID:923-1775939400-1775950200@www.thecruizers.at
SUMMARY:Rock'n'Roll im Saloon
DESCRIPTION:Rockabilly\, Rock’n’Roll in bekannter Cruizers Manier.\nSaloon Westfield Donau ZentrumWagramer Straße 79(Donau Zentrum) 604a\, 1220 Wieninfo@saloon.co.at01 203 45 95
URL:https://www.thecruizers.at/en/event/rocknroll-im-saloon/
LOCATION:Saloon Westfield Donauzentrum\, Wagramerstraße 79a\, Wien\, 1220\, Austria
ATTACH;FMTTYPE=image/jpeg:https://www.thecruizers.at/wp-content/uploads/2025/12/Saloon-April.jpg
END:VEVENT
BEGIN:VEVENT
DTSTART;TZID=Europe/Vienna:20260317T210000
DTEND;TZID=Europe/Vienna:20260317T233000
DTSTAMP:20260421T162506
CREATED:20260223T111321Z
LAST-MODIFIED:20260223T111321Z
UID:1029-1773781200-1773790200@www.thecruizers.at
SUMMARY:Gustl & Gotty im "Roter Engel"
DESCRIPTION:
URL:https://www.thecruizers.at/en/event/gustl-gotty-im-roter-engel/
LOCATION:Roter Engel\, Rabensteig 5\, Wien\, 1010\, Austria
ATTACH;FMTTYPE=image/jpeg:https://www.thecruizers.at/wp-content/uploads/2026/02/Gustl-Gotty.jpg
END:VEVENT
BEGIN:VEVENT
DTSTART;TZID=Europe/Vienna:20260228T203000
DTEND;TZID=Europe/Vienna:20260228T233000
DTSTAMP:20260421T162506
CREATED:20251219T115048Z
LAST-MODIFIED:20260223T112753Z
UID:921-1772310600-1772321400@www.thecruizers.at
SUMMARY:Rock'n'Roll im Saloon
DESCRIPTION:Infos folgen
URL:https://www.thecruizers.at/en/event/rocknroll-im-saloon-2/
LOCATION:Saloon Westfield Donauzentrum\, Wagramerstraße 79a\, Wien\, 1220\, Austria
ATTACH;FMTTYPE=image/jpeg:https://www.thecruizers.at/wp-content/uploads/2025/12/Saloon-Feb.jpg
END:VEVENT
END:VCALENDAR